BEGIN:VCALENDAR
VERSION:2.0
PRODID:-//Julie&amp; - ECPv6.15.17.1//NONSGML v1.0//EN
CALSCALE:GREGORIAN
METHOD:PUBLISH
X-WR-CALNAME:Julie&amp;
X-ORIGINAL-URL:https://julie-and.com
X-WR-CALDESC:Events for Julie&amp;
REFRESH-INTERVAL;VALUE=DURATION:PT1H
X-Robots-Tag:noindex
X-PUBLISHED-TTL:PT1H
BEGIN:VTIMEZONE
TZID:UTC
BEGIN:STANDARD
TZOFFSETFROM:+0000
TZOFFSETTO:+0000
TZNAME:UTC
DTSTART:20240101T000000
END:STANDARD
END:VTIMEZONE
BEGIN:VTIMEZONE
TZID:America/New_York
BEGIN:DAYLIGHT
TZOFFSETFROM:-0500
TZOFFSETTO:-0400
TZNAME:EDT
DTSTART:20240310T070000
END:DAYLIGHT
BEGIN:STANDARD
TZOFFSETFROM:-0400
TZOFFSETTO:-0500
TZNAME:EST
DTSTART:20241103T060000
END:STANDARD
BEGIN:DAYLIGHT
TZOFFSETFROM:-0500
TZOFFSETTO:-0400
TZNAME:EDT
DTSTART:20250309T070000
END:DAYLIGHT
BEGIN:STANDARD
TZOFFSETFROM:-0400
TZOFFSETTO:-0500
TZNAME:EST
DTSTART:20251102T060000
END:STANDARD
BEGIN:DAYLIGHT
TZOFFSETFROM:-0500
TZOFFSETTO:-0400
TZNAME:EDT
DTSTART:20260308T070000
END:DAYLIGHT
BEGIN:STANDARD
TZOFFSETFROM:-0400
TZOFFSETTO:-0500
TZNAME:EST
DTSTART:20261101T060000
END:STANDARD
END:VTIMEZONE
BEGIN:VEVENT
DTSTART;TZID=UTC:20251218T170000
DTEND;TZID=UTC:20251218T210000
DTSTAMP:20260329T223351
CREATED:20250904T210610Z
LAST-MODIFIED:20250904T210743Z
UID:1223-1766077200-1766091600@julie-and.com
SUMMARY:Medford's Third Thursday Food Truck Nite
DESCRIPTION:Good eats & good vibes on Main Street! Every third Thursday (March–Dec)\, 10+ food trucks roll in alongside local shops\, breweries\, and eateries that keep their doors open late with specials\, sales\, and treats. \nBring the fam\, grab a table\, and enjoy the twinkle of lamp posts while you snack\, sip\, and stroll. It’s free to attend\, easy to park\, and always a fun night out in the heart of Medford. 🌙🍔🍻 \n📍 Main Street\, MedfordThird Thursdays\, March 20–December 18
URL:https://julie-and.com/event/medfords-third-thursday-food-truck-nite-3/
CATEGORIES:Food Trucks
END:VEVENT
BEGIN:VEVENT
DTSTART;TZID=UTC:20251120T170000
DTEND;TZID=UTC:20251120T210000
DTSTAMP:20260329T223351
CREATED:20250904T210313Z
LAST-MODIFIED:20250904T210816Z
UID:1217-1763658000-1763672400@julie-and.com
SUMMARY:Medford's Third Thursday Food Truck Nite
DESCRIPTION:Good eats & good vibes on Main Street! Every third Thursday (March–Dec)\, 10+ food trucks roll in alongside local shops\, breweries\, and eateries that keep their doors open late with specials\, sales\, and treats. \nBring the fam\, grab a table\, and enjoy the twinkle of lamp posts while you snack\, sip\, and stroll. It’s free to attend\, easy to park\, and always a fun night out in the heart of Medford. 🌙🍔🍻 \n📍 Main Street\, MedfordThird Thursdays\, March 20–December 18
URL:https://julie-and.com/event/medfords-third-thursday-food-truck-nite-2/
CATEGORIES:Food Trucks
END:VEVENT
BEGIN:VEVENT
DTSTART;TZID=America/New_York:20251025T110000
DTEND;TZID=America/New_York:20251025T150000
DTSTAMP:20260329T223351
CREATED:20250820T010617Z
LAST-MODIFIED:20250904T210904Z
UID:1191-1761390000-1761404400@julie-and.com
SUMMARY:Trick-or-Treat Fall Festival at White Horse Winery
DESCRIPTION:Fall Fun at White Horse Winery! 🍷Festive afternoon with food trucks\, local vendors\, outdoor games\, photo ops\, live music & safe trick-or-treating. Costumes encouraged! \n💰 Free Entry | 🍷 Wine available for purchase
URL:https://julie-and.com/event/trick-or-treat-fall-festival-at-white-horse-winery/
LOCATION:White Horse Winery\, 106 Hall St\, Hammonton\, NJ\, 08037\, United States
CATEGORIES:Fall Funtivities
END:VEVENT
BEGIN:VEVENT
DTSTART;TZID=UTC:20251016T170000
DTEND;TZID=UTC:20251016T210000
DTSTAMP:20260329T223351
CREATED:20250904T210110Z
LAST-MODIFIED:20250904T210936Z
UID:1213-1760634000-1760648400@julie-and.com
SUMMARY:Medford's Third Thursday Food Truck Nite
DESCRIPTION:Good eats & good vibes on Main Street! Every third Thursday (March–Dec)\, 10+ food trucks roll in alongside local shops\, breweries\, and eateries that keep their doors open late with specials\, sales\, and treats. \nBring the fam\, grab a table\, and enjoy the twinkle of lamp posts while you snack\, sip\, and stroll. It’s free to attend\, easy to park\, and always a fun night out in the heart of Medford. 🌙🍔🍻 \n📍 Main Street\, MedfordThird Thursdays\, March 20–December 18
URL:https://julie-and.com/event/1213/
CATEGORIES:Food Trucks
END:VEVENT
BEGIN:VEVENT
DTSTART;TZID=UTC:20251012T090000
DTEND;TZID=UTC:20251012T170000
DTSTAMP:20260329T223351
CREATED:20250904T211924Z
LAST-MODIFIED:20250904T212014Z
UID:1226-1760259600-1760288400@julie-and.com
SUMMARY:Ocean City Fall Block Party
DESCRIPTION:Over 400 crafters\, food vendors\, live music\, and more take over the streets of Asbury Ave! \nStroll\, shop\, snack\, and soak in one of Ocean City’s biggest community days!
URL:https://julie-and.com/event/ocean-city-fall-block-party/
CATEGORIES:Fall Funtivities,Food Trucks
END:VEVENT
BEGIN:VEVENT
DTSTART;TZID=America/New_York:20251012T090000
DTEND;TZID=America/New_York:20251012T160000
DTSTAMP:20260329T223351
CREATED:20250820T005848Z
LAST-MODIFIED:20250904T211257Z
UID:1187-1760259600-1760284800@julie-and.com
SUMMARY:Fall Festival by Funny Farm
DESCRIPTION:🎉 Funny Farm’s Biggest Event of the Year! 🐾✨Bring the whole family for a day of fun: hay rides\, face painting\, live music\, vendors & crafters\, food trucks\, raffle baskets\, animal feedings\, and even a special megaesophagus dog feeding demo! 🐕 \nFun for all ages\, don’t miss it!
URL:https://julie-and.com/event/fall-festival-by-funny-farm/
LOCATION:Funny Farm Resque & Sanctuary\, 6908 Railroad Blvd\, Mays Landing\, NJ\, 08330\, United States
CATEGORIES:Fall Funtivities,Food Trucks
END:VEVENT
BEGIN:VEVENT
DTSTART;TZID=UTC:20251005T100000
DTEND;TZID=UTC:20251005T170000
DTSTAMP:20260329T223351
CREATED:20250906T163139Z
LAST-MODIFIED:20250906T163139Z
UID:1256-1759658400-1759683600@julie-and.com
SUMMARY:Smithville Octoberfest
DESCRIPTION:One of the area’s most beloved fall traditions is back! Enjoy:🛍️ 150+ juried crafters & 50 village shoppes🌎 An international food court with seasonal favorites🎠 Family fun with kids’ activities\, carousel & train rides\, paddle boats & more🐾 Pet-friendly festivities (yes\, even the dog can join!)🎶 Nonprofits\, raffles\, and live entertainment \nWith artisan shopping\, delicious eats\, and autumn vibes\, Oktoberfest at Smithville is a full day of fun for the whole family. Free shuttle service available from Smithville Square. \n📍 Historic Smithville Village
URL:https://julie-and.com/event/smithville-octoberfest-2/
CATEGORIES:Fall Funtivities
END:VEVENT
BEGIN:VEVENT
DTSTART;TZID=UTC:20251004T100000
DTEND;TZID=UTC:20251004T170000
DTSTAMP:20260329T223351
CREATED:20250906T163016Z
LAST-MODIFIED:20250906T163016Z
UID:1253-1759572000-1759597200@julie-and.com
SUMMARY:Smithville Octoberfest
DESCRIPTION:One of the area’s most beloved fall traditions is back! Enjoy:🛍️ 150+ juried crafters & 50 village shoppes🌎 An international food court with seasonal favorites🎠 Family fun with kids’ activities\, carousel & train rides\, paddle boats & more🐾 Pet-friendly festivities (yes\, even the dog can join!)🎶 Nonprofits\, raffles\, and live entertainment \nWith artisan shopping\, delicious eats\, and autumn vibes\, Oktoberfest at Smithville is a full day of fun for the whole family. Free shuttle service available from Smithville Square. \n📍 Historic Smithville Village
URL:https://julie-and.com/event/smithville-octoberfest/
END:VEVENT
BEGIN:VEVENT
DTSTART;TZID=UTC:20250927T140000
DTEND;TZID=UTC:20250927T200000
DTSTAMP:20260329T223351
CREATED:20250904T204317Z
LAST-MODIFIED:20250904T211428Z
UID:1200-1758981600-1759003200@julie-and.com
SUMMARY:Galloway End of Summer Food Truck Festival & Car Show
DESCRIPTION:Rain date: Sept 28 \n300 E. Jimmie Leeds Rd\, Galloway\, NJ \nFamily-friendly sendoff to summer with BBQ\, snacks\, sweets\, a car show (2–5 PM)\, beer & wine garden\, kids’ activities\, live music by Don’t Call Me Francis (4–8 PM)\, and fireworks to close the night! \nBring your chairs\, your appetite\, and your crew. This is one festival you won’t want to miss. \n📞 Info: 609-241-069
URL:https://julie-and.com/event/galloway-end-of-summer-food-truck-festival-car-show/
CATEGORIES:Food Trucks
END:VEVENT
BEGIN:VEVENT
DTSTART;TZID=UTC:20250927T100000
DTEND;TZID=UTC:20250927T170000
DTSTAMP:20260329T223351
CREATED:20250906T161409Z
LAST-MODIFIED:20250906T161409Z
UID:1247-1758967200-1758992400@julie-and.com
SUMMARY:Historic Smithville Italian Festival
DESCRIPTION:One of Smithville’s favorite traditions returns! Spend the day enjoying the sights\, sounds\, and flavors of Italy with:🎶 Live Italian music from Jim Craine & the Atlantic City All Star Band\, DJs\, and dance performances🍕 Over 15 food trucks serving authentic Italian eats🛍️ 70+ craft vendors🍷 Wine tastings & a beer truck🎈 Family fun with kids’ activities\, face painting\, sand art & more🎲 Free Bocce Ball games & a 50/50 raffle \nRain date September 28th
URL:https://julie-and.com/event/historic-smithville-italian-festival/
CATEGORIES:Fun Food Events
END:VEVENT
BEGIN:VEVENT
DTSTART;TZID=UTC:20250927T090000
DTEND;TZID=UTC:20250927T180000
DTSTAMP:20260329T223351
CREATED:20250906T162642Z
LAST-MODIFIED:20250906T162642Z
UID:1250-1758963600-1758996000@julie-and.com
SUMMARY:Cape May Octoberfest
DESCRIPTION:Celebrate Bavarian tradition as Cape May transforms into a lively German promenade! Enjoy authentic music\, delicious food\, and festive beer gardens\, while browsing artisan tables filled with crafts\, antiques\, and collectibles. Admission is FREE. Bring your friends and family for a full day of Oktoberfest fun in the heart of Cape May. \n📍 Carpenter Lane (between Ocean & Perry and Jackson Street) \nRain date: Sept. 28
URL:https://julie-and.com/event/cape-may-octoberfest/
CATEGORIES:Fall Funtivities
END:VEVENT
BEGIN:VEVENT
DTSTART;TZID=UTC:20250918T170000
DTEND;TZID=UTC:20250918T210000
DTSTAMP:20260329T223351
CREATED:20250904T205910Z
LAST-MODIFIED:20250904T211451Z
UID:1210-1758214800-1758229200@julie-and.com
SUMMARY:Medford's Third Thursday Food Truck Nite
DESCRIPTION:Good eats & good vibes on Main Street! Every third Thursday (March–Dec)\, 10+ food trucks roll in alongside local shops\, breweries\, and eateries that keep their doors open late with specials\, sales\, and treats. \nBring the fam\, grab a table\, and enjoy the twinkle of lamp posts while you snack\, sip\, and stroll. It’s free to attend\, easy to park\, and always a fun night out in the heart of Medford. 🌙🍔🍻 \n📍 Main Street\, MedfordThird Thursdays\, March 20–December 18
URL:https://julie-and.com/event/medfords-third-thursday-food-truck-nite/
CATEGORIES:Food Trucks
END:VEVENT
BEGIN:VEVENT
DTSTART;TZID=UTC:20250916T180000
DTEND;TZID=UTC:20250916T200000
DTSTAMP:20260329T223351
CREATED:20250820T004602Z
LAST-MODIFIED:20250904T211526Z
UID:1179-1758045600-1758052800@julie-and.com
SUMMARY:A French Affair Cooking Experience at the Claridge Hotel
DESCRIPTION:Whisk yourself to Paris\, right here in Atlantic City! 🍷✨ \nEnjoy a hands-on\, chef-led class where you’ll learn to create the iconic Ratatouille\, then indulge in the flavors of a 3-course dinner inspired by the City of Light. Whether you’re a foodie\, a hopeless romantic\, or simply looking for a unique night out\, this is your chance to savor French flair in an unforgettable setting. \n👩‍🍳 Limited spots! This is a ticketed event. \nBon appétit! 🥖🥂
URL:https://julie-and.com/event/a-french-affair-cooking-experience-at-the-claridge-hotel/
LOCATION:Claridge Hotel\, 123 S Indiana Ave\, Atlantic City\, NJ\, 08401\, United States
CATEGORIES:Fun Food Events
END:VEVENT
BEGIN:VEVENT
DTSTART;TZID=UTC:20250914T110000
DTEND;TZID=UTC:20250914T180000
DTSTAMP:20260329T223351
CREATED:20250904T214411Z
LAST-MODIFIED:20250904T215128Z
UID:1236-1757847600-1757872800@julie-and.com
SUMMARY:Downbeach Seafood Fest\, Ventnor
DESCRIPTION:Come hungry and get ready to savor the shore! The festival returns to Ski Beach\, Ventnor on Sept 13 & 14 with a weekend full of fresh seafood\, local flavors\, craft beer\, live music\, and family fun. \n✨ Highlights include: \n\n\nDozens of regional seafood vendors \n\n\nCooking demos & tastings \n\n\nLive entertainment & beachside vibes \n\n\nIt’s a delicious Jersey Shore tradition you won’t want to miss!
URL:https://julie-and.com/event/douwnbeach-seafood-fest-ventnor/
CATEGORIES:Fun Food Events
END:VEVENT
BEGIN:VEVENT
DTSTART;TZID=UTC:20250913T110000
DTEND;TZID=UTC:20250913T190000
DTSTAMP:20260329T223351
CREATED:20250904T205427Z
LAST-MODIFIED:20250904T211610Z
UID:1204-1757761200-1757790000@julie-and.com
SUMMARY:Voorhees Food Truck & Music Festival
DESCRIPTION:Saturday\, Sept 13th\, John Connolly Park becomes a feast for all the senses. Think 18+ gourmet food trucks (yes\, lobster rolls\, empanadas\, ramen\, wings & more)\, live music from The Ruckus\, Soul Seduction\, and Pure Petty\, plus a beer & sangria garden to keep spirits high. \nIt’s family-friendly too — with face painting\, pony rides\, a petting zoo\, and inflatables for the little ones. Bring your chairs\, blankets\, and an appetite… admission is FREE! ✨ \n📍 605 Centennial Blvd\, Voorhees
URL:https://julie-and.com/event/voorhees-food-truck-music-festival/
CATEGORIES:Food Trucks
END:VEVENT
BEGIN:VEVENT
DTSTART;TZID=UTC:20250913T110000
DTEND;TZID=UTC:20250913T180000
DTSTAMP:20260329T223351
CREATED:20250904T214255Z
LAST-MODIFIED:20250904T214255Z
UID:1233-1757761200-1757786400@julie-and.com
SUMMARY:Downbeach Seafood Fest\, Ventnor
DESCRIPTION:Come hungry and get ready to savor the shore! The festival returns to Ski Beach\, Ventnor on Sept 13 & 14 with a weekend full of fresh seafood\, local flavors\, craft beer\, live music\, and family fun. \n✨ Highlights include: \n\n\nDozens of regional seafood vendors \n\n\nCooking demos & tastings \n\n\nLive entertainment & beachside vibes \n\n\nIt’s a delicious Jersey Shore tradition you won’t want to miss!
URL:https://julie-and.com/event/downbeach-seafood-fest-ventnor/
CATEGORIES:Fun Food Events
END:VEVENT
BEGIN:VEVENT
DTSTART;TZID=UTC:20250913T090000
DTEND;TZID=UTC:20250913T160000
DTSTAMP:20260329T223351
CREATED:20250906T160923Z
LAST-MODIFIED:20250906T160923Z
UID:1244-1757754000-1757779200@julie-and.com
SUMMARY:Sea Isle City Fall Fest
DESCRIPTION:🌊✨ Spend the day seaside in Sea Isle City! Hosted by the Division of Tourism\, enjoy a full lineup of fun along the Promenade:🛍️ Vendor Craft Market & Food Court (9AM–4PM)🎈 FREE inflatable attractions\, face painting\, photo booth\, art bar & balloon art (10AM–3PM)🎶 Live music from Brass Pocket Band (10AM–3PM)🎨 Sand art (small fee) \nIt’s a day of shopping\, eats\, music\, and family fun by the ocean! For details call 609-263-8687.
URL:https://julie-and.com/event/sea-isle-city-fall-fest/
CATEGORIES:Fall Funtivities
END:VEVENT
BEGIN:VEVENT
DTSTART;TZID=UTC:20250907T110000
DTEND;TZID=UTC:20250907T190000
DTSTAMP:20260329T223351
CREATED:20250904T203553Z
LAST-MODIFIED:20250904T211640Z
UID:1197-1757242800-1757271600@julie-and.com
SUMMARY:Vineland Food Truck Festival
DESCRIPTION:Expect 30 food trucks plus a wide mix of craft and merchandise vendors. Enjoy all-day entertainment from: \n\n\nDJ Joe “Mr. Check It Out”\, DJ Flair\, Jessica Taylor \n\n\nThe Fabulous Silver Wings Country Band \n\n\nIzis “La Enfermera de la Salsa” \n\n\nThe Muzik Live Band \n\n\nThe Incredible Funny Group Italian Band \n\n\nFamily fun includes free games for all ages and two wine gardens.
URL:https://julie-and.com/event/vineland-food-truck-festival/
CATEGORIES:Food Trucks
END:VEVENT
BEGIN:VEVENT
DTSTART;VALUE=DATE:20250903
DTEND;VALUE=DATE:20250904
DTSTAMP:20260329T223351
CREATED:20250819T211123Z
LAST-MODIFIED:20250820T003032Z
UID:1165-1756857600-1756943999@julie-and.com
SUMMARY:Paint & Sip at the Fox Den
DESCRIPTION:The Fox Den on Wed\, Sept 3 @ 5:30pm for a Paint & Sip \nSip\, snack & paint the night away!Ticket includes supplies\, step-by-step guidance\, a drink\, & charcuterie. 🧀✨No experience needed\, just bring your creativity!
URL:https://julie-and.com/event/paint-sip-at-the-fox-den/
LOCATION:Fox Den\, 500 Shore road\, Linwood\, NJ\, United States
END:VEVENT
BEGIN:VEVENT
DTSTART;TZID=UTC:20250822T183000
DTEND;TZID=UTC:20250822T183000
DTSTAMP:20260329T223351
CREATED:20250819T210216Z
LAST-MODIFIED:20250819T210516Z
UID:1161-1755887400-1755887400@julie-and.com
SUMMARY:Usual Suspects at the Fox Den
DESCRIPTION:Enjoy the perfect summer night! Sip your favorite drink and sing along as The Usual Suspects rock the stage with your favorite hits under the stars!
URL:https://julie-and.com/event/usual-suspects-at-the-fox-den/
LOCATION:Fox Den\, 500 Shore road\, Linwood\, NJ\, United States
END:VEVENT
END:VCALENDAR